BEGIN:VCALENDAR
VERSION:2.0
PRODID:-//Storrs Pond Recreation Area - ECPv6.15.15//NONSGML v1.0//EN
CALSCALE:GREGORIAN
METHOD:PUBLISH
X-WR-CALNAME:Storrs Pond Recreation Area
X-ORIGINAL-URL:https://www.storrspond.org
X-WR-CALDESC:Events for Storrs Pond Recreation Area
REFRESH-INTERVAL;VALUE=DURATION:PT1H
X-Robots-Tag:noindex
X-PUBLISHED-TTL:PT1H
BEGIN:VTIMEZONE
TZID:America/New_York
BEGIN:DAYLIGHT
TZOFFSETFROM:-0500
TZOFFSETTO:-0400
TZNAME:EDT
DTSTART:20250309T070000
END:DAYLIGHT
BEGIN:STANDARD
TZOFFSETFROM:-0400
TZOFFSETTO:-0500
TZNAME:EST
DTSTART:20251102T060000
END:STANDARD
BEGIN:DAYLIGHT
TZOFFSETFROM:-0500
TZOFFSETTO:-0400
TZNAME:EDT
DTSTART:20260308T070000
END:DAYLIGHT
BEGIN:STANDARD
TZOFFSETFROM:-0400
TZOFFSETTO:-0500
TZNAME:EST
DTSTART:20261101T060000
END:STANDARD
BEGIN:DAYLIGHT
TZOFFSETFROM:-0500
TZOFFSETTO:-0400
TZNAME:EDT
DTSTART:20270314T070000
END:DAYLIGHT
BEGIN:STANDARD
TZOFFSETFROM:-0400
TZOFFSETTO:-0500
TZNAME:EST
DTSTART:20271107T060000
END:STANDARD
END:VTIMEZONE
BEGIN:VEVENT
DTSTART;VALUE=DATE:20260301
DTEND;VALUE=DATE:20260401
DTSTAMP:20260421T044349
CREATED:20260211T213453Z
LAST-MODIFIED:20260211T213620Z
UID:3312-1772323200-1775001599@www.storrspond.org
SUMMARY:Swim Lesson Sign Up for SPRA Members
DESCRIPTION:Storrs Pond Members get first dibs on group swim lessons. \nPurchase your SPRA membership and get an early bird discount too!
URL:https://www.storrspond.org/event/swim-lesson-sign-up-for-spra-members/
END:VEVENT
END:VCALENDAR